BEGIN:VCALENDAR
VERSION:2.0
PRODID:-//eventon.com NONSGML v1.0//EN
CALSCALE:GREGORIAN
METHOD:PUBLISH
BEGIN:VEVENT
UID:69e9ec4e8207c
DTSTAMP:20260423T095422Z
DTSTART:20240426T070000Z
DTEND:20240426T140000Z
LOCATION:
SUMMARY:Prüfungstermin EU-Kompetenznachweis A2
DESCRIPTION:Prüfungstermin EU-Kompetenznachweis A2\nhttps://www.aef.aero/T
 ermine/pruefungstermine-eu-kompetenznachweis-a2-6/
URL:https://www.aef.aero/Termine/pruefungstermine-eu-kompetenznachweis-a2-6/
END:VEVENT
END:VCALENDAR